{
 "currentVersion": 10.81,
 "serviceDescription": "Images from 2011",
 "mapName": "Layers",
 "description": "",
 "copyrightText": "",
 "supportsDynamicLayers": false,
 "layers": [
  {
   "id": 0,
   "name": "photography.SDE.NCHAS2011",
   "parentLayerId": -1,
   "defaultVisibility": true,
   "subLayerIds": null,
   "minScale": 0,
   "maxScale": 0,
   "type": "Raster Layer"
  }
 ],
 "tables": [],
 "spatialReference": {
  "wkid": 2273,
  "latestWkid": 2273
 },
 "singleFusedMapCache": true,
 "tileInfo": {
  "rows": 256,
  "cols": 256,
  "dpi": 96,
  "format": "PNG32",
  "compressionQuality": 0,
  "origin": {
   "x": -122907600,
   "y": 157014500
  },
  "spatialReference": {
   "wkid": 2273,
   "latestWkid": 2273
  },
  "lods": [
   {
    "level": 0,
    "resolution": 117.18773437546875,
    "scale": 135000
   },
   {
    "level": 1,
    "resolution": 39.06257812515625,
    "scale": 45000
   },
   {
    "level": 2,
    "resolution": 26.041718750104167,
    "scale": 30000
   },
   {
    "level": 3,
    "resolution": 17.361145833402777,
    "scale": 20000
   },
   {
    "level": 4,
    "resolution": 8.680572916701388,
    "scale": 10000
   },
   {
    "level": 5,
    "resolution": 4.340286458350694,
    "scale": 5000
   },
   {
    "level": 6,
    "resolution": 2.170143229175347,
    "scale": 2500
   },
   {
    "level": 7,
    "resolution": 0.8680572916701389,
    "scale": 1000
   },
   {
    "level": 8,
    "resolution": 0.43402864583506945,
    "scale": 500
   }
  ]
 },
 "initialExtent": {
  "xmin": 2299016.906060776,
  "ymin": 381650.868522759,
  "xmax": 2305751.544081609,
  "ymax": 382673.563835259,
  "spatialReference": {
   "wkid": 2273,
   "latestWkid": 2273
  }
 },
 "fullExtent": {
  "xmin": 2225118.826965,
  "ymin": 358377.67534080375,
  "xmax": 2331546.539820015,
  "ymax": 427001.8125888038,
  "spatialReference": {
   "wkid": 2273,
   "latestWkid": 2273
  }
 },
 "minScale": 135000,
 "maxScale": 500,
 "units": "esriFeet",
 "supportedImageFormatTypes": "PNG32,PNG24,PNG,JPG,DIB,TIFF,EMF,PS,PDF,GIF,SVG,SVGZ,BMP",
 "documentInfo": {
  "Title": "",
  "Author": "",
  "Comments": "Images from 2011",
  "Subject": "Images 2011",
  "Category": "",
  "AntialiasingMode": "None",
  "TextAntialiasingMode": "Force",
  "Keywords": "imagery"
 },
 "capabilities": "Data,Map,Query",
 "supportedQueryFormats": "JSON, geoJSON",
 "exportTilesAllowed": false,
 "referenceScale": 0,
 "supportsDatumTransformation": true,
 "maxRecordCount": 1000,
 "maxImageHeight": 4096,
 "maxImageWidth": 4096,
 "supportedExtensions": ""
}
